BEGIN:VCALENDAR
VERSION:2.0
PRODID:-//Friends of Forsythe National Wildlife Refuge - ECPv6.15.20//NONSGML v1.0//EN
CALSCALE:GREGORIAN
METHOD:PUBLISH
X-WR-CALNAME:Friends of Forsythe National Wildlife Refuge
X-ORIGINAL-URL:https://friendsofforsythe.org
X-WR-CALDESC:Events for Friends of Forsythe National Wildlife Refuge
REFRESH-INTERVAL;VALUE=DURATION:PT1H
X-Robots-Tag:noindex
X-PUBLISHED-TTL:PT1H
BEGIN:VTIMEZONE
TZID:America/New_York
BEGIN:DAYLIGHT
TZOFFSETFROM:-0500
TZOFFSETTO:-0400
TZNAME:EDT
DTSTART:20240310T070000
END:DAYLIGHT
BEGIN:STANDARD
TZOFFSETFROM:-0400
TZOFFSETTO:-0500
TZNAME:EST
DTSTART:20241103T060000
END:STANDARD
BEGIN:DAYLIGHT
TZOFFSETFROM:-0500
TZOFFSETTO:-0400
TZNAME:EDT
DTSTART:20250309T070000
END:DAYLIGHT
BEGIN:STANDARD
TZOFFSETFROM:-0400
TZOFFSETTO:-0500
TZNAME:EST
DTSTART:20251102T060000
END:STANDARD
BEGIN:DAYLIGHT
TZOFFSETFROM:-0500
TZOFFSETTO:-0400
TZNAME:EDT
DTSTART:20260308T070000
END:DAYLIGHT
BEGIN:STANDARD
TZOFFSETFROM:-0400
TZOFFSETTO:-0500
TZNAME:EST
DTSTART:20261101T060000
END:STANDARD
END:VTIMEZONE
BEGIN:VEVENT
DTSTART;TZID=America/New_York:20250926T123000
DTEND;TZID=America/New_York:20250926T143000
DTSTAMP:20260421T054711
CREATED:20250905T183140Z
LAST-MODIFIED:20250905T183140Z
UID:10000115-1758889800-1758897000@friendsofforsythe.org
SUMMARY:Holgate Beach Clean-Up
DESCRIPTION:The refuge and its partners are excited to announce the 2025 Holgate Beach Clean-Up! Join us on September 26\, 2025\, from 12:30 to 2:30 p.m. at the Holgate Wilderness Area on the southern end of Long Beach Island. We invite everyone to participate in this amazing event. Registration is strongly encouraged but not required. \nOptional link to register for the event =>
URL:https://friendsofforsythe.org/event/holgate-beach-clean-up/
LOCATION:NJ
END:VEVENT
END:VCALENDAR